Package: PureCN Version: 2.14.1 Maintainer: Markus Riester MaintainerEmail: markus.riester at novartis.com git_url: https://git.bioconductor.org/packages/PureCN git_branch: RELEASE_3_21 git_last_commit: d2327b2 git_last_commit_date: 2025-04-25 14:55:15 -0400 (Fri, 25 Apr 2025)