Package: ProteoMM Version: 1.24.0 Command: F:\biocbuild\bbs-3.20-bioc\R\bin\R.exe CMD INSTALL ProteoMM StartedAt: 2025-01-30 15:46:13 -0500 (Thu, 30 Jan 2025) EndedAt: 2025-01-30 15:46:31 -0500 (Thu, 30 Jan 2025) EllapsedTime: 18.9 seconds RetCode: 0 Status: OK