Package: ProteoMM Version: 1.26.0 Command: /Library/Frameworks/R.framework/Resources/bin/R CMD INSTALL ProteoMM StartedAt: 2025-04-21 15:21:30 -0400 (Mon, 21 Apr 2025) EndedAt: 2025-04-21 15:21:38 -0400 (Mon, 21 Apr 2025) EllapsedTime: 7.9 seconds RetCode: 0 Status: OK