Package: ProteoMM Version: 1.26.0 Command: /Library/Frameworks/R.framework/Resources/bin/R CMD check --install=check:ProteoMM.install-out.txt --library=/Library/Frameworks/R.framework/Resources/library --no-vignettes --timings ProteoMM_1.26.0.tar.gz StartedAt: 2025-04-21 21:01:41 -0400 (Mon, 21 Apr 2025) EndedAt: 2025-04-21 21:02:22 -0400 (Mon, 21 Apr 2025) EllapsedTime: 41.5 seconds RetCode: 0 Status: OK CheckDir: ProteoMM.Rcheck Warnings: 0