Package: ProteoMM Version: 1.26.0 Command: /Library/Frameworks/R.framework/Resources/bin/R CMD build --keep-empty-dirs --no-resave-data ProteoMM StartedAt: 2025-04-21 17:19:40 -0400 (Mon, 21 Apr 2025) EndedAt: 2025-04-21 17:19:53 -0400 (Mon, 21 Apr 2025) EllapsedTime: 13.2 seconds RetCode: 0 Status: OK PackageFile: ProteoMM_1.26.0.tar.gz PackageFileSize: 516.8 KiB