Package: ProtGenerics Version: 1.40.0 Command: rm -rf ProtGenerics.buildbin-libdir && mkdir ProtGenerics.buildbin-libdir && E:\biocbuild\bbs-3.21-bioc\R\bin\R.exe CMD INSTALL --build --library=ProtGenerics.buildbin-libdir ProtGenerics_1.40.0.tar.gz StartedAt: 2025-08-15 09:59:47 -0400 (Fri, 15 Aug 2025) EndedAt: 2025-08-15 10:03:14 -0400 (Fri, 15 Aug 2025) EllapsedTime: 206.2 seconds RetCode: 0 Status: OK PackageFile: ProtGenerics_1.40.0.zip PackageFileSize: 249.1 KiB