Package: ProtGenerics Version: 1.40.0 Command: /Library/Frameworks/R.framework/Resources/bin/R CMD check --install=check:ProtGenerics.install-out.txt --library=/Library/Frameworks/R.framework/Resources/library --no-vignettes --timings ProtGenerics_1.40.0.tar.gz StartedAt: 2025-05-16 08:08:48 -0400 (Fri, 16 May 2025) EndedAt: 2025-05-16 08:09:28 -0400 (Fri, 16 May 2025) EllapsedTime: 40.0 seconds RetCode: 0 Status: OK CheckDir: ProtGenerics.Rcheck Warnings: 0