Package: ProtGenerics Version: 1.40.0 Command: /Library/Frameworks/R.framework/Resources/bin/R CMD build --keep-empty-dirs --no-resave-data ProtGenerics StartedAt: 2025-05-15 21:42:14 -0400 (Thu, 15 May 2025) EndedAt: 2025-05-15 21:42:17 -0400 (Thu, 15 May 2025) EllapsedTime: 2.3 seconds RetCode: 0 Status: OK PackageFile: ProtGenerics_1.40.0.tar.gz PackageFileSize: 10.89 KiB