Package: ProtGenerics Version: 1.40.0 Command: /Library/Frameworks/R.framework/Resources/bin/R CMD build --keep-empty-dirs --no-resave-data ProtGenerics StartedAt: 2025-04-21 17:19:48 -0400 (Mon, 21 Apr 2025) EndedAt: 2025-04-21 17:19:49 -0400 (Mon, 21 Apr 2025) EllapsedTime: 1.0 seconds RetCode: 0 Status: OK PackageFile: ProtGenerics_1.40.0.tar.gz PackageFileSize: 10.89 KiB