Package: ProtGenerics Version: 1.38.0 Command: /Library/Frameworks/R.framework/Resources/bin/R CMD build --keep-empty-dirs --no-resave-data ProtGenerics StartedAt: 2025-01-31 05:43:25 -0500 (Fri, 31 Jan 2025) EndedAt: 2025-01-31 05:43:27 -0500 (Fri, 31 Jan 2025) EllapsedTime: 1.2 seconds RetCode: 0 Status: OK PackageFile: ProtGenerics_1.38.0.tar.gz PackageFileSize: 9.979 KiB