Package: Prostar Version: 1.40.0 Command: /Library/Frameworks/R.framework/Resources/bin/R CMD INSTALL Prostar StartedAt: 2025-05-05 16:12:57 -0400 (Mon, 05 May 2025) EndedAt: 2025-05-05 16:14:19 -0400 (Mon, 05 May 2025) EllapsedTime: 81.6 seconds RetCode: 0 Status: OK