Package: Prostar Version: 1.40.0 Command: rm -rf Prostar.buildbin-libdir && mkdir Prostar.buildbin-libdir && /Users/biocbuild/BBS/utils/build-universal.sh Prostar_1.40.0.tar.gz /Library/Frameworks/R.framework/Resources/bin/R Prostar.buildbin-libdir StartedAt: 2025-05-06 13:20:07 -0400 (Tue, 06 May 2025) EndedAt: 2025-05-06 13:22:04 -0400 (Tue, 06 May 2025) EllapsedTime: 117.2 seconds RetCode: 0 Status: OK PackageFile: Prostar_1.40.0.tgz PackageFileSize: 1.562 MiB