Package: Prostar Version: 1.40.0 Command: /Library/Frameworks/R.framework/Resources/bin/R CMD check --install=check:Prostar.install-out.txt --library=/Library/Frameworks/R.framework/Resources/library --no-vignettes --timings Prostar_1.40.0.tar.gz StartedAt: 2025-04-21 21:01:37 -0400 (Mon, 21 Apr 2025) EndedAt: 2025-04-21 21:03:23 -0400 (Mon, 21 Apr 2025) EllapsedTime: 106.3 seconds RetCode: 0 Status: WARNINGS CheckDir: Prostar.Rcheck Warnings: 1