Package: Prostar Version: 1.40.0 Command: /Library/Frameworks/R.framework/Resources/bin/R CMD build --keep-empty-dirs --no-resave-data Prostar StartedAt: 2025-04-29 00:12:23 -0400 (Tue, 29 Apr 2025) EndedAt: 2025-04-29 00:12:41 -0400 (Tue, 29 Apr 2025) EllapsedTime: 18.2 seconds RetCode: 0 Status: OK PackageFile: Prostar_1.40.0.tar.gz PackageFileSize: 4.2 MiB