Package: PrInCE Version: 1.24.0 Command: /Library/Frameworks/R.framework/Resources/bin/R CMD check --install=check:PrInCE.install-out.txt --library=/Library/Frameworks/R.framework/Resources/library --no-vignettes --timings PrInCE_1.24.0.tar.gz StartedAt: 2025-04-25 08:40:26 -0400 (Fri, 25 Apr 2025) EndedAt: 2025-04-25 08:51:00 -0400 (Fri, 25 Apr 2025) EllapsedTime: 633.6 seconds RetCode: 0 Status: WARNINGS CheckDir: PrInCE.Rcheck Warnings: 1