Package: PrInCE Version: 1.24.0 Command: /Library/Frameworks/R.framework/Resources/bin/R CMD check --install=check:PrInCE.install-out.txt --library=/Library/Frameworks/R.framework/Resources/library --no-vignettes --timings PrInCE_1.24.0.tar.gz StartedAt: 2025-04-21 20:59:31 -0400 (Mon, 21 Apr 2025) EndedAt: 2025-04-21 21:01:41 -0400 (Mon, 21 Apr 2025) EllapsedTime: 129.6 seconds RetCode: 0 Status: WARNINGS CheckDir: PrInCE.Rcheck Warnings: 1