Package: PrInCE Version: 1.24.0 Command: /Library/Frameworks/R.framework/Resources/bin/R CMD INSTALL PrInCE StartedAt: 2025-05-05 18:30:55 -0400 (Mon, 05 May 2025) EndedAt: 2025-05-05 18:31:59 -0400 (Mon, 05 May 2025) EllapsedTime: 64.2 seconds RetCode: 0 Status: OK