Package: PrInCE Version: 1.24.0 Command: /Library/Frameworks/R.framework/Resources/bin/R CMD build --keep-empty-dirs --no-resave-data PrInCE StartedAt: 2025-05-09 06:03:27 -0400 (Fri, 09 May 2025) EndedAt: 2025-05-09 06:06:40 -0400 (Fri, 09 May 2025) EllapsedTime: 192.8 seconds RetCode: 0 Status: OK PackageFile: PrInCE_1.24.0.tar.gz PackageFileSize: 1.818 MiB