Package: PhenoGeneRanker Version: 1.14.0 Command: /home/biocbuild/R/R/bin/R CMD build --keep-empty-dirs --no-resave-data PhenoGeneRanker StartedAt: 2025-01-31 01:45:02 -0000 (Fri, 31 Jan 2025) EndedAt: 2025-01-31 01:53:03 -0000 (Fri, 31 Jan 2025) EllapsedTime: 480.5 seconds RetCode: 0 Status: OK PackageFile: PhenoGeneRanker_1.14.0.tar.gz PackageFileSize: 28.81 KiB