Package: PhenoGeneRanker Version: 1.16.0 Command: /Library/Frameworks/R.framework/Resources/bin/R CMD check --install=check:PhenoGeneRanker.install-out.txt --library=/Library/Frameworks/R.framework/Resources/library --no-vignettes --timings PhenoGeneRanker_1.16.0.tar.gz StartedAt: 2025-05-06 07:31:02 -0400 (Tue, 06 May 2025) EndedAt: 2025-05-06 07:34:14 -0400 (Tue, 06 May 2025) EllapsedTime: 192.2 seconds RetCode: 0 Status: OK CheckDir: PhenoGeneRanker.Rcheck Warnings: 0