Package: PhenoGeneRanker Version: 1.14.0 Command: /home/biocbuild/R/R/bin/R CMD build --keep-empty-dirs --no-resave-data PhenoGeneRanker StartedAt: 2024-11-20 02:56:11 -0000 (Wed, 20 Nov 2024) EndedAt: 2024-11-20 03:04:44 -0000 (Wed, 20 Nov 2024) EllapsedTime: 513.7 seconds RetCode: 0 Status: OK PackageFile: PhenoGeneRanker_1.14.0.tar.gz PackageFileSize: 28.81 KiB