Package: PhenoGeneRanker Version: 1.14.0 Command: /Library/Frameworks/R.framework/Resources/bin/R CMD INSTALL PhenoGeneRanker StartedAt: 2025-01-30 15:15:57 -0500 (Thu, 30 Jan 2025) EndedAt: 2025-01-30 15:16:07 -0500 (Thu, 30 Jan 2025) EllapsedTime: 10.3 seconds RetCode: 0 Status: OK