Package: PhenStat Version: 2.42.0 Command: /home/biocbuild/R/R/bin/R CMD check --install=check:PhenStat.install-out.txt --library=/home/biocbuild/R/R/site-library --no-vignettes --timings PhenStat_2.42.0.tar.gz StartedAt: 2025-01-31 09:06:38 -0000 (Fri, 31 Jan 2025) EndedAt: 2025-01-31 09:08:50 -0000 (Fri, 31 Jan 2025) EllapsedTime: 132.1 seconds RetCode: 0 Status: OK CheckDir: PhenStat.Rcheck Warnings: 0