Package: PhenStat Version: 2.42.0 Command: F:\biocbuild\bbs-3.20-bioc\R\bin\R.exe CMD check --no-multiarch --install=check:PhenStat.install-out.txt --library=F:\biocbuild\bbs-3.20-bioc\R\library --no-vignettes --timings PhenStat_2.42.0.tar.gz StartedAt: 2025-02-04 04:52:10 -0500 (Tue, 04 Feb 2025) EndedAt: 2025-02-04 04:55:01 -0500 (Tue, 04 Feb 2025) EllapsedTime: 171.2 seconds RetCode: 0 Status: OK CheckDir: PhenStat.Rcheck Warnings: 0