Package: PhenStat Version: 2.42.0 Command: rm -rf PhenStat.buildbin-libdir && mkdir PhenStat.buildbin-libdir && F:\biocbuild\bbs-3.20-bioc\R\bin\R.exe CMD INSTALL --build --library=PhenStat.buildbin-libdir PhenStat_2.42.0.tar.gz StartedAt: 2025-01-31 09:16:32 -0500 (Fri, 31 Jan 2025) EndedAt: 2025-01-31 09:17:37 -0500 (Fri, 31 Jan 2025) EllapsedTime: 64.6 seconds RetCode: 0 Status: OK PackageFile: PhenStat_2.42.0.zip PackageFileSize: 1.25 MiB