Package: PhenStat Version: 2.42.0 Command: /home/biocbuild/bbs-3.20-bioc/R/bin/R CMD INSTALL PhenStat StartedAt: 2025-02-03 15:52:12 -0500 (Mon, 03 Feb 2025) EndedAt: 2025-02-03 15:52:29 -0500 (Mon, 03 Feb 2025) EllapsedTime: 17.4 seconds RetCode: 0 Status: OK