Package: PhenStat Version: 2.42.0 Command: /Library/Frameworks/R.framework/Resources/bin/R CMD check --install=check:PhenStat.install-out.txt --library=/Library/Frameworks/R.framework/Resources/library --no-vignettes --timings PhenStat_2.42.0.tar.gz StartedAt: 2025-02-04 07:57:28 -0500 (Tue, 04 Feb 2025) EndedAt: 2025-02-04 08:02:08 -0500 (Tue, 04 Feb 2025) EllapsedTime: 279.2 seconds RetCode: 0 Status: OK CheckDir: PhenStat.Rcheck Warnings: 0