Package: PhenStat Version: 2.42.0 Command: /Library/Frameworks/R.framework/Resources/bin/R CMD build --keep-empty-dirs --no-resave-data PhenStat StartedAt: 2025-01-30 21:50:13 -0500 (Thu, 30 Jan 2025) EndedAt: 2025-01-30 21:51:30 -0500 (Thu, 30 Jan 2025) EllapsedTime: 76.5 seconds RetCode: 0 Status: OK PackageFile: PhenStat_2.42.0.tar.gz PackageFileSize: 681.9 KiB