Package: PhenStat Version: 2.42.0 Command: /Library/Frameworks/R.framework/Resources/bin/R CMD check --install=check:PhenStat.install-out.txt --library=/Library/Frameworks/R.framework/Resources/library --no-vignettes --timings PhenStat_2.42.0.tar.gz StartedAt: 2025-02-01 04:39:17 -0500 (Sat, 01 Feb 2025) EndedAt: 2025-02-01 04:41:39 -0500 (Sat, 01 Feb 2025) EllapsedTime: 142.4 seconds RetCode: 0 Status: OK CheckDir: PhenStat.Rcheck Warnings: 0