Package: PharmacoGx Version: 3.12.0 Maintainer: Benjamin Haibe-Kains MaintainerEmail: benjamin.haibe.kains at utoronto.ca git_url: https://git.bioconductor.org/packages/PharmacoGx git_branch: RELEASE_3_21 git_last_commit: b88d5dd git_last_commit_date: 2025-04-15 11:04:33 -0400 (Tue, 15 Apr 2025)