Package: PeacoQC Version: 1.18.0 Command: /home/biocbuild/R/R/bin/R CMD INSTALL PeacoQC StartedAt: 2025-05-05 20:38:07 -0000 (Mon, 05 May 2025) EndedAt: 2025-05-05 20:38:26 -0000 (Mon, 05 May 2025) EllapsedTime: 19.2 seconds RetCode: 0 Status: OK