Package: PathoStat Version: 1.32.0 Command: F:\biocbuild\bbs-3.20-bioc\R\bin\R.exe CMD INSTALL PathoStat StartedAt: 2025-01-30 16:39:01 -0500 (Thu, 30 Jan 2025) EndedAt: 2025-01-30 16:40:08 -0500 (Thu, 30 Jan 2025) EllapsedTime: 67.7 seconds RetCode: 0 Status: OK