Package: PathoStat Version: 1.34.0 Command: /home/biocbuild/R/R/bin/R CMD check --install=check:PathoStat.install-out.txt --library=/home/biocbuild/R/R/site-library --no-vignettes --timings PathoStat_1.34.0.tar.gz StartedAt: 2025-05-13 12:08:50 -0000 (Tue, 13 May 2025) EndedAt: 2025-05-13 12:15:02 -0000 (Tue, 13 May 2025) EllapsedTime: 372.7 seconds RetCode: 0 Status: OK CheckDir: PathoStat.Rcheck Warnings: 0