Package: PathNet Version: 1.48.0 Command: /Library/Frameworks/R.framework/Resources/bin/R CMD INSTALL PathNet StartedAt: 2025-04-21 15:01:06 -0400 (Mon, 21 Apr 2025) EndedAt: 2025-04-21 15:01:08 -0400 (Mon, 21 Apr 2025) EllapsedTime: 1.5 seconds RetCode: 0 Status: OK