Package: PathNet Version: 1.48.0 Maintainer: Ludwig Geistlinger MaintainerEmail: ludwig.geistlinger at gmail.com git_url: https://git.bioconductor.org/packages/PathNet git_branch: RELEASE_3_21 git_last_commit: 772b0c2 git_last_commit_date: 2025-04-15 11:52:56 -0400 (Tue, 15 Apr 2025)