Package: Path2PPI Version: 1.38.0 Command: rm -rf Path2PPI.buildbin-libdir && mkdir Path2PPI.buildbin-libdir && E:\biocbuild\bbs-3.21-bioc\R\bin\R.exe CMD INSTALL --build --library=Path2PPI.buildbin-libdir Path2PPI_1.38.0.tar.gz StartedAt: 2025-08-15 09:54:50 -0400 (Fri, 15 Aug 2025) EndedAt: 2025-08-15 09:55:21 -0400 (Fri, 15 Aug 2025) EllapsedTime: 31.1 seconds RetCode: 0 Status: OK PackageFile: Path2PPI_1.38.0.zip PackageFileSize: 1.135 MiB