Package: Path2PPI Version: 1.38.0 Maintainer: Oliver Philipp MaintainerEmail: contact at oliverphilipp.info git_url: https://git.bioconductor.org/packages/Path2PPI git_branch: RELEASE_3_21 git_last_commit: 4ab8298 git_last_commit_date: 2025-04-15 10:52:59 -0400 (Tue, 15 Apr 2025)