Package: PanViz Version: 1.10.0 Command: /Library/Frameworks/R.framework/Resources/bin/R CMD INSTALL PanViz StartedAt: 2025-05-05 15:18:46 -0400 (Mon, 05 May 2025) EndedAt: 2025-05-05 15:18:49 -0400 (Mon, 05 May 2025) EllapsedTime: 3.6 seconds RetCode: 0 Status: OK