Package: PanViz Version: 1.10.0 Command: /Library/Frameworks/R.framework/Resources/bin/R CMD build --keep-empty-dirs --no-resave-data PanViz StartedAt: 2025-05-09 05:32:39 -0400 (Fri, 09 May 2025) EndedAt: 2025-05-09 05:32:52 -0400 (Fri, 09 May 2025) EllapsedTime: 12.3 seconds RetCode: 1 Status: ERROR PackageFile: None PackageFileSize: NA