Package: PROcess Version: 1.82.0 Command: /home/biocbuild/R/R/bin/R CMD INSTALL PROcess StartedAt: 2025-02-03 21:04:04 -0000 (Mon, 03 Feb 2025) EndedAt: 2025-02-03 21:04:11 -0000 (Mon, 03 Feb 2025) EllapsedTime: 6.5 seconds RetCode: 0 Status: OK