Package: PROPER Version: 1.40.0 Command: /Library/Frameworks/R.framework/Resources/bin/R CMD build --keep-empty-dirs --no-resave-data PROPER StartedAt: 2025-05-05 21:27:07 -0400 (Mon, 05 May 2025) EndedAt: 2025-05-05 21:27:29 -0400 (Mon, 05 May 2025) EllapsedTime: 21.8 seconds RetCode: 0 Status: OK PackageFile: PROPER_1.40.0.tar.gz PackageFileSize: 1.8 MiB