Package: PROPER Version: 1.40.0 Command: /home/biocbuild/R/R/bin/R CMD build --keep-empty-dirs --no-resave-data PROPER StartedAt: 2025-05-06 03:27:32 -0000 (Tue, 06 May 2025) EndedAt: 2025-05-06 03:27:41 -0000 (Tue, 06 May 2025) EllapsedTime: 9.0 seconds RetCode: 0 Status: OK PackageFile: PROPER_1.40.0.tar.gz PackageFileSize: 1.791 MiB