Package: PROPER Version: 1.40.0 Command: /Library/Frameworks/R.framework/Resources/bin/R CMD INSTALL PROPER StartedAt: 2025-05-05 15:06:13 -0400 (Mon, 05 May 2025) EndedAt: 2025-05-05 15:06:17 -0400 (Mon, 05 May 2025) EllapsedTime: 3.8 seconds RetCode: 0 Status: OK