Package: PRONE Version: 1.2.0 Command: /Library/Frameworks/R.framework/Resources/bin/R CMD check --install=check:PRONE.install-out.txt --library=/Library/Frameworks/R.framework/Resources/library --no-vignettes --timings PRONE_1.2.0.tar.gz StartedAt: 2025-04-21 22:46:04 -0400 (Mon, 21 Apr 2025) EndedAt: 2025-04-21 22:51:50 -0400 (Mon, 21 Apr 2025) EllapsedTime: 346.6 seconds RetCode: 0 Status: OK CheckDir: PRONE.Rcheck Warnings: 0