Package: PRONE Version: 1.2.0 Command: rm -rf PRONE.buildbin-libdir && mkdir PRONE.buildbin-libdir && /Users/biocbuild/BBS/utils/build-universal.sh PRONE_1.2.0.tar.gz /Library/Frameworks/R.framework/Resources/bin/R PRONE.buildbin-libdir StartedAt: 2025-05-07 17:08:17 -0400 (Wed, 07 May 2025) EndedAt: 2025-05-07 17:09:12 -0400 (Wed, 07 May 2025) EllapsedTime: 54.5 seconds RetCode: 0 Status: OK PackageFile: PRONE_1.2.0.tgz PackageFileSize: 10.58 MiB