Package: PROMISE Version: 1.60.0 Command: chmod a+r PROMISE -R && E:\biocbuild\bbs-3.21-bioc\R\bin\R.exe CMD build --keep-empty-dirs --no-resave-data PROMISE StartedAt: 2025-08-14 21:26:09 -0400 (Thu, 14 Aug 2025) EndedAt: 2025-08-14 21:26:42 -0400 (Thu, 14 Aug 2025) EllapsedTime: 33.0 seconds RetCode: 0 Status: OK PackageFile: PROMISE_1.60.0.tar.gz PackageFileSize: 135.6 KiB