Package: PROMISE Version: 1.60.0 Command: rm -rf PROMISE.buildbin-libdir && mkdir PROMISE.buildbin-libdir && E:\biocbuild\bbs-3.21-bioc\R\bin\R.exe CMD INSTALL --build --library=PROMISE.buildbin-libdir PROMISE_1.60.0.tar.gz StartedAt: 2025-08-15 09:59:23 -0400 (Fri, 15 Aug 2025) EndedAt: 2025-08-15 09:59:49 -0400 (Fri, 15 Aug 2025) EllapsedTime: 26.1 seconds RetCode: 0 Status: OK PackageFile: PROMISE_1.60.0.zip PackageFileSize: 182.2 KiB