Package: PROMISE Version: 1.60.0 Maintainer: Stan Pounds , Xueyuan Cao MaintainerEmail: xueyuan.cao at stjude.org git_url: https://git.bioconductor.org/packages/PROMISE git_branch: RELEASE_3_21 git_last_commit: 1bf44aa git_last_commit_date: 2025-04-15 09:59:29 -0400 (Tue, 15 Apr 2025)