Package: PREDA Version: 1.54.0 Command: chmod a+r PREDA -R && E:\biocbuild\bbs-3.21-bioc\R\bin\R.exe CMD build --keep-empty-dirs --no-resave-data PREDA StartedAt: 2025-08-14 21:24:35 -0400 (Thu, 14 Aug 2025) EndedAt: 2025-08-14 21:27:53 -0400 (Thu, 14 Aug 2025) EllapsedTime: 197.9 seconds RetCode: 0 Status: OK PackageFile: PREDA_1.54.0.tar.gz PackageFileSize: 1.761 MiB