Package: PREDA Version: 1.54.0 Command: rm -rf PREDA.buildbin-libdir && mkdir PREDA.buildbin-libdir && /Users/biocbuild/BBS/utils/build-universal.sh PREDA_1.54.0.tar.gz /Library/Frameworks/R.framework/Resources/bin/R PREDA.buildbin-libdir StartedAt: 2025-04-22 01:01:03 -0400 (Tue, 22 Apr 2025) EndedAt: 2025-04-22 01:01:36 -0400 (Tue, 22 Apr 2025) EllapsedTime: 32.2 seconds RetCode: 0 Status: OK PackageFile: PREDA_1.54.0.tgz PackageFileSize: 1.996 MiB